BEGIN:VCALENDAR
VERSION:2.0
PRODID:-//Faith Community Health Network - ECPv6.15.18//NONSGML v1.0//EN
CALSCALE:GREGORIAN
METHOD:PUBLISH
X-WR-CALNAME:Faith Community Health Network
X-ORIGINAL-URL:https://faithcommunityhealthnetwork.org
X-WR-CALDESC:Events for Faith Community Health Network
REFRESH-INTERVAL;VALUE=DURATION:PT1H
X-Robots-Tag:noindex
X-PUBLISHED-TTL:PT1H
BEGIN:VTIMEZONE
TZID:America/Los_Angeles
BEGIN:DAYLIGHT
TZOFFSETFROM:-0800
TZOFFSETTO:-0700
TZNAME:PDT
DTSTART:20220313T100000
END:DAYLIGHT
BEGIN:STANDARD
TZOFFSETFROM:-0700
TZOFFSETTO:-0800
TZNAME:PST
DTSTART:20221106T090000
END:STANDARD
BEGIN:DAYLIGHT
TZOFFSETFROM:-0800
TZOFFSETTO:-0700
TZNAME:PDT
DTSTART:20230312T100000
END:DAYLIGHT
BEGIN:STANDARD
TZOFFSETFROM:-0700
TZOFFSETTO:-0800
TZNAME:PST
DTSTART:20231105T090000
END:STANDARD
BEGIN:DAYLIGHT
TZOFFSETFROM:-0800
TZOFFSETTO:-0700
TZNAME:PDT
DTSTART:20240310T100000
END:DAYLIGHT
BEGIN:STANDARD
TZOFFSETFROM:-0700
TZOFFSETTO:-0800
TZNAME:PST
DTSTART:20241103T090000
END:STANDARD
END:VTIMEZONE
BEGIN:VEVENT
DTSTART;TZID=America/Los_Angeles:20230510T070000
DTEND;TZID=America/Los_Angeles:20230510T083000
DTSTAMP:20260421T184111
CREATED:20230417T212821Z
LAST-MODIFIED:20230417T213146Z
UID:10000001-1683702000-1683707400@faithcommunityhealthnetwork.org
SUMMARY:Free Informational Breakfast
DESCRIPTION:It takes a village!  \nDo you have actively licensed registered nurses (RNs) in your congregation? Have you wondered how a nurse might safely and effectively serve your faith family and lighten some of the load of caring for your congregation? Have you heard about faith community nursing but are unclear about what a faith community nurse can do and how a faith community nurse might serve as a partner in pastoral care?  \nPlease join us for a tasty breakfast and bring your nurse or another ministry leader from your congregation as our guests and get the answers to these questions and more at our Informational Breakfast on Faith Community Nursing! \nLearn more and reserve your spot here: https://www.eventbrite.com/e/informational-breakfast-for-pastors-and-ministry-leaders-tickets-527940372867
URL:https://faithcommunityhealthnetwork.org/event/free-informational-breakfast/
LOCATION:Santiam Place\, 139 S. Main\, Lebanon\, OR\, 97355\, United States
ATTACH;FMTTYPE=image/jpeg:https://faithcommunityhealthnetwork.org/wp-content/uploads/2023/04/free-informational-breakfast-image-041723.jpg
END:VEVENT
END:VCALENDAR