BEGIN:VCALENDAR
VERSION:2.0
PRODID:-//Faith Community Health Network - ECPv6.15.18//NONSGML v1.0//EN
CALSCALE:GREGORIAN
METHOD:PUBLISH
X-ORIGINAL-URL:https://faithcommunityhealthnetwork.org
X-WR-CALDESC:Events for Faith Community Health Network
REFRESH-INTERVAL;VALUE=DURATION:PT1H
X-Robots-Tag:noindex
X-PUBLISHED-TTL:PT1H
BEGIN:VTIMEZONE
TZID:America/Los_Angeles
BEGIN:DAYLIGHT
TZOFFSETFROM:-0800
TZOFFSETTO:-0700
TZNAME:PDT
DTSTART:20220313T100000
END:DAYLIGHT
BEGIN:STANDARD
TZOFFSETFROM:-0700
TZOFFSETTO:-0800
TZNAME:PST
DTSTART:20221106T090000
END:STANDARD
BEGIN:DAYLIGHT
TZOFFSETFROM:-0800
TZOFFSETTO:-0700
TZNAME:PDT
DTSTART:20230312T100000
END:DAYLIGHT
BEGIN:STANDARD
TZOFFSETFROM:-0700
TZOFFSETTO:-0800
TZNAME:PST
DTSTART:20231105T090000
END:STANDARD
BEGIN:DAYLIGHT
TZOFFSETFROM:-0800
TZOFFSETTO:-0700
TZNAME:PDT
DTSTART:20240310T100000
END:DAYLIGHT
BEGIN:STANDARD
TZOFFSETFROM:-0700
TZOFFSETTO:-0800
TZNAME:PST
DTSTART:20241103T090000
END:STANDARD
END:VTIMEZONE
BEGIN:VEVENT
DTSTART;TZID=America/Los_Angeles:20230825T090000
DTEND;TZID=America/Los_Angeles:20230825T150000
DTSTAMP:20260421T111229
CREATED:20230612T175907Z
LAST-MODIFIED:20230804T161939Z
UID:10000010-1692954000-1692975600@faithcommunityhealthnetwork.org
SUMMARY:Linn\, Benton\, Lincoln Partners for Health Summit 2023
DESCRIPTION:Save the date!  \nWatch for registration details to come! Look for us at this event. Partners for Health Summit 2023 will be held in Newport this summer. This is a great excuse for a day at the Oregon coast! \nFrom the Flyer\nCome join the Coast to Cascades Community Wellness Network (CCCWN) & the Linn\, Benton\, Lincoln Partners for Health as they host their annual community health summit. This year\, they will explore a variety of health issues while keeping a human-centered approach in mind. The agenda will include topics such as parenting support\, nutrition/physical health education\, mental wellbeing\, and youth services. Additionally\, there will be a cooking demonstration and a diverse panel of experts from a variety of backgrounds. \nSee Samaritan Health’s Partners for Health Summit events page.
URL:https://faithcommunityhealthnetwork.org/event/linn-benton-lincoln-partners-for-health-summit-2023/
LOCATION:Center for Health Education\, 740 SW 9th St\, Newport\, OR\, 97365\, United States
ATTACH;FMTTYPE=image/jpeg:https://faithcommunityhealthnetwork.org/wp-content/uploads/2023/06/whole-person-approach-to-health-082523.jpg
END:VEVENT
END:VCALENDAR