BEGIN:VCALENDAR
VERSION:2.0
PRODID:-//Faith Community Health Network - ECPv6.15.18//NONSGML v1.0//EN
CALSCALE:GREGORIAN
METHOD:PUBLISH
X-WR-CALNAME:Faith Community Health Network
X-ORIGINAL-URL:https://faithcommunityhealthnetwork.org
X-WR-CALDESC:Events for Faith Community Health Network
REFRESH-INTERVAL;VALUE=DURATION:PT1H
X-Robots-Tag:noindex
X-PUBLISHED-TTL:PT1H
BEGIN:VTIMEZONE
TZID:America/Los_Angeles
BEGIN:DAYLIGHT
TZOFFSETFROM:-0800
TZOFFSETTO:-0700
TZNAME:PDT
DTSTART:20220313T100000
END:DAYLIGHT
BEGIN:STANDARD
TZOFFSETFROM:-0700
TZOFFSETTO:-0800
TZNAME:PST
DTSTART:20221106T090000
END:STANDARD
BEGIN:DAYLIGHT
TZOFFSETFROM:-0800
TZOFFSETTO:-0700
TZNAME:PDT
DTSTART:20230312T100000
END:DAYLIGHT
BEGIN:STANDARD
TZOFFSETFROM:-0700
TZOFFSETTO:-0800
TZNAME:PST
DTSTART:20231105T090000
END:STANDARD
BEGIN:DAYLIGHT
TZOFFSETFROM:-0800
TZOFFSETTO:-0700
TZNAME:PDT
DTSTART:20240310T100000
END:DAYLIGHT
BEGIN:STANDARD
TZOFFSETFROM:-0700
TZOFFSETTO:-0800
TZNAME:PST
DTSTART:20241103T090000
END:STANDARD
END:VTIMEZONE
BEGIN:VEVENT
DTSTART;TZID=America/Los_Angeles:20230927T160000
DTEND;TZID=America/Los_Angeles:20230927T181500
DTSTAMP:20260421T062209
CREATED:20230922T180332Z
LAST-MODIFIED:20230922T180332Z
UID:697-1695830400-1695838500@faithcommunityhealthnetwork.org
SUMMARY:Linn-Benton-Lincoln Suicide Care Coalition Update & CHW Training Hub
DESCRIPTION:An update from the LBL Suicide Care Coalition: A Community focus for a public health concern and an introduction to the CHW Training Hub. \nRegister here.
URL:https://faithcommunityhealthnetwork.org/event/linn-benton-lincoln-suicide-care-coalition-update-chw-training-hub/
END:VEVENT
END:VCALENDAR