BEGIN:VCALENDAR
VERSION:2.0
PRODID:-//Faith Community Health Network - ECPv6.15.18//NONSGML v1.0//EN
CALSCALE:GREGORIAN
METHOD:PUBLISH
X-WR-CALNAME:Faith Community Health Network
X-ORIGINAL-URL:https://faithcommunityhealthnetwork.org
X-WR-CALDESC:Events for Faith Community Health Network
REFRESH-INTERVAL;VALUE=DURATION:PT1H
X-Robots-Tag:noindex
X-PUBLISHED-TTL:PT1H
BEGIN:VTIMEZONE
TZID:America/Los_Angeles
BEGIN:DAYLIGHT
TZOFFSETFROM:-0800
TZOFFSETTO:-0700
TZNAME:PDT
DTSTART:20230312T100000
END:DAYLIGHT
BEGIN:STANDARD
TZOFFSETFROM:-0700
TZOFFSETTO:-0800
TZNAME:PST
DTSTART:20231105T090000
END:STANDARD
BEGIN:DAYLIGHT
TZOFFSETFROM:-0800
TZOFFSETTO:-0700
TZNAME:PDT
DTSTART:20240310T100000
END:DAYLIGHT
BEGIN:STANDARD
TZOFFSETFROM:-0700
TZOFFSETTO:-0800
TZNAME:PST
DTSTART:20241103T090000
END:STANDARD
BEGIN:DAYLIGHT
TZOFFSETFROM:-0800
TZOFFSETTO:-0700
TZNAME:PDT
DTSTART:20250309T100000
END:DAYLIGHT
BEGIN:STANDARD
TZOFFSETFROM:-0700
TZOFFSETTO:-0800
TZNAME:PST
DTSTART:20251102T090000
END:STANDARD
END:VTIMEZONE
BEGIN:VEVENT
DTSTART;TZID=America/Los_Angeles:20240124T160000
DTEND;TZID=America/Los_Angeles:20240124T180000
DTSTAMP:20260421T012322
CREATED:20231223T011256Z
LAST-MODIFIED:20231223T011256Z
UID:756-1706112000-1706119200@faithcommunityhealthnetwork.org
SUMMARY:January Educational Meeting: Assessing Substance Use & Addiction Treatment
DESCRIPTION:Join us! Our January educational meeting has two parts: \nAssessing substance use: an introduction to the American Society of Addictions Medicine assessment process \nThis presentation will introduce faith community nurses\, pastoral leaders\, and health ministers to the American Society of Addiction Medicine assessment criteria. Mr. Taghon will walk participants through the assessment using a standardized template and will explain how the assessment can be used to determine the Level of Care. \nPresenter: Dave Taghon CRM\, CADCI\, Addictions Specialist\, Linn County Alcohol and Drug Treatment \nAddiction treatment: An overview \nThis presentation will be a general discussion of the history\, epidemiology\, physiology\, and treatment options for treatment of substance use disorders\, with a focus on shame and stigma as barriers to successful treatment. Dr. Simmons will also cover evidence-based practices to dismantle stigmatization\, particularly the SAMHSA-supported trauma-informed approach to operations and treatment. He will review the evidence supporting medication for addiction treatment\, in particular methadone and buprenorphine for opioid use disorder\, and their cognates in the use of medications for the treatment of Type II diabetes. We’ll conclude with (hopefully) a participatory discussion of the role of faith and spirituality in professional and peer-based addiction treatment. \nPresenter: David Simmons\, MD\, MMus\, FASAM\, Medical Director\, Samaritan Treatment & Recovery Services (STARS) \nRegister for this event here or you can contact Tawni at tawnifcn@gmail.com.
URL:https://faithcommunityhealthnetwork.org/event/january-educational-meeting-assessing-substance-use-addiction-treatment/
ORGANIZER;CN="Faith Community Health Network":MAILTO:contactfchn@gmail.com
END:VEVENT
END:VCALENDAR